BEGIN:VCALENDAR
VERSION:2.0
PRODID:-//Plone.org//NONSGML plone.app.event//EN
X-WR-TIMEZONE:Europe/Zurich
BEGIN:VEVENT
SUMMARY:08.45 Uhr: Besammlung der Schülerschaft (2. - 6. Klassen) im jewe
 iligen Klassenzimmer
DTSTART;VALUE=DATE:20240812
DTEND;VALUE=DATE:20240813
DTSTAMP;VALUE=DATE-TIME:20260424T021224Z
UID:9d43bbd7fc5744fd93291226d9d423ca@127.0.0.1:6081
CREATED;VALUE=DATE-TIME:20240419T073528Z
LAST-MODIFIED;VALUE=DATE-TIME:20240419T073540Z
URL:https://gymnasium.ai.ch/nuetzliches/termine/08-45-uhr-besammlung-der-s
 chuelerschaft-2-6-klassen-im-jeweiligen-klassenzimmer-1
END:VEVENT
END:VCALENDAR
