BEGIN:VCALENDAR
VERSION:2.0
PRODID:-//Plone.org//NONSGML plone.app.event//EN
X-WR-TIMEZONE:Europe/Zurich
BEGIN:VEVENT
SUMMARY:08.45 Uhr: Besammlung der Schülerschaft 2. - 6. Klassen im jeweil
 igen Klassenzimmer
DTSTART;VALUE=DATE:20230814
DTEND;VALUE=DATE:20230815
DTSTAMP;VALUE=DATE-TIME:20260423T231812Z
UID:c4b92161a34a4708be2eae4e9244486d@127.0.0.1:6081
CREATED;VALUE=DATE-TIME:20230423T161946Z
LAST-MODIFIED;VALUE=DATE-TIME:20230423T162126Z
URL:https://gymnasium.ai.ch/nuetzliches/termine/08-45-uhr-besammlung-der-s
 chuelerschaft-2-6-klassen-im-jeweiligen-klassenzimmer
END:VEVENT
END:VCALENDAR
