BEGIN:VCALENDAR
VERSION:2.0
PRODID:-//Plone.org//NONSGML plone.app.event//EN
X-WR-TIMEZONE:Europe/Zurich
BEGIN:VEVENT
SUMMARY:1. - 3. Klassen: Schweizerischer Schulsporttag in Brugg/Windisch
DTSTART;VALUE=DATE:20230526
DTEND;VALUE=DATE:20230527
DTSTAMP;VALUE=DATE-TIME:20260423T231527Z
UID:0fba16ba06fa4936ba262e4c0e63b61c@127.0.0.1:6081
CREATED;VALUE=DATE-TIME:20221013T173921Z
LAST-MODIFIED;VALUE=DATE-TIME:20230423T075046Z
URL:https://gymnasium.ai.ch/nuetzliches/termine/1-3-klassen-schweizerische
 r-schulsporttag
END:VEVENT
END:VCALENDAR
