BEGIN:VCALENDAR
VERSION:2.0
PRODID:-//Plone.org//NONSGML plone.app.event//EN
X-WR-TIMEZONE:Europe/Zurich
BEGIN:VEVENT
SUMMARY:1. - 3. Klassen: Theaterbesuch Sek (Nachmittag)
DTSTART;VALUE=DATE:20230602
DTEND;VALUE=DATE:20230603
DTSTAMP;VALUE=DATE-TIME:20260424T004953Z
UID:bdf9c90ca27345e98c414481109aae8f@127.0.0.1:6081
CREATED;VALUE=DATE-TIME:20230423T142505Z
LAST-MODIFIED;VALUE=DATE-TIME:20230423T142737Z
URL:https://gymnasium.ai.ch/nuetzliches/termine/1-3-klassen-theaterbesuch-
 sek-nachmittag
END:VEVENT
END:VCALENDAR
