BEGIN:VCALENDAR
VERSION:2.0
PRODID:-//Plone.org//NONSGML plone.app.event//EN
X-WR-TIMEZONE:Europe/Zurich
BEGIN:VEVENT
SUMMARY:1. Datum Altstättertag: Der Altstättertag findet nicht statt.
DTSTART;VALUE=DATE:20210503
DTEND;VALUE=DATE:20210505
DTSTAMP;VALUE=DATE-TIME:20260424T004421Z
UID:47401f0b76e84c2fb770fa4f6e725ceb@127.0.0.1:10150
CREATED;VALUE=DATE-TIME:20210417T205123Z
LAST-MODIFIED;VALUE=DATE-TIME:20210503T063917Z
URL:https://gymnasium.ai.ch/nuetzliches/termine/1-datum-altstaettertag
END:VEVENT
END:VCALENDAR
