BEGIN:VCALENDAR
VERSION:2.0
PRODID:-//Plone.org//NONSGML plone.app.event//EN
X-WR-TIMEZONE:Europe/Zurich
BEGIN:VEVENT
SUMMARY:Bergtag
DTSTART;VALUE=DATE:20220830
DTEND;VALUE=DATE:20220831
DTSTAMP;VALUE=DATE-TIME:20260423T231318Z
UID:576e0ddaff2d4663b7b2303ab6801373@127.0.0.1:6081
CREATED;VALUE=DATE-TIME:20220711T195345Z
LAST-MODIFIED;VALUE=DATE-TIME:20220829T070114Z
URL:https://gymnasium.ai.ch/nuetzliches/termine/1-datum-bergtag
END:VEVENT
END:VCALENDAR
