BEGIN:VCALENDAR
VERSION:2.0
PRODID:-//Plone.org//NONSGML plone.app.event//EN
X-WR-TIMEZONE:Europe/Zurich
BEGIN:VEVENT
SUMMARY:1. Termin: Wintersporttag
DTSTART;VALUE=DATE:20230124
DTEND;VALUE=DATE:20230125
DTSTAMP;VALUE=DATE-TIME:20260424T004726Z
UID:6e36730dacd8464f8e3e0715d6f92d08@127.0.0.1:6081
CREATED;VALUE=DATE-TIME:20220711T205515Z
LAST-MODIFIED;VALUE=DATE-TIME:20220711T205519Z
URL:https://gymnasium.ai.ch/nuetzliches/termine/1-termin-wintersporttag
END:VEVENT
END:VCALENDAR
