BEGIN:VCALENDAR
VERSION:2.0
PRODID:-//Plone.org//NONSGML plone.app.event//EN
X-WR-TIMEZONE:Europe/Zurich
BEGIN:VEVENT
SUMMARY:Schulschluss: 1. - 4. Klassen\, 11.55 Uhr / 5. Klassen\, 16.15 Uhr
DTSTART;VALUE=DATE:20240626
DTEND;VALUE=DATE:20240627
DTSTAMP;VALUE=DATE-TIME:20260423T231614Z
UID:b7b9cec17f2847878579145af837549d@127.0.0.1:6081
CREATED;VALUE=DATE-TIME:20240419T093725Z
LAST-MODIFIED;VALUE=DATE-TIME:20240419T094718Z
URL:https://gymnasium.ai.ch/nuetzliches/termine/11-55-uhr-schulschluss-1-4
 -klassen
END:VEVENT
END:VCALENDAR
