BEGIN:VCALENDAR
VERSION:2.0
PRODID:-//Plone.org//NONSGML plone.app.event//EN
X-WR-TIMEZONE:Europe/Zurich
BEGIN:VEVENT
SUMMARY:16.20 Uhr: Beginn Wahlpflichtfächer und Freifächer
DTSTART;VALUE=DATE:20230814
DTEND;VALUE=DATE:20230815
DTSTAMP;VALUE=DATE-TIME:20260423T231614Z
UID:c1105cb3e8c24e92bf5a0fedeb696517@127.0.0.1:6081
CREATED;VALUE=DATE-TIME:20230423T162625Z
LAST-MODIFIED;VALUE=DATE-TIME:20230423T162632Z
URL:https://gymnasium.ai.ch/nuetzliches/termine/16-20-uhr-beginn-wahlpflic
 htfaecher-und-freifaecher
END:VEVENT
END:VCALENDAR
