BEGIN:VCALENDAR
VERSION:2.0
PRODID:-//Plone.org//NONSGML plone.app.event//EN
X-WR-TIMEZONE:Europe/Zurich
BEGIN:VEVENT
SUMMARY:16.20 Uhr: Start Wahlpflichtfächer und Freifächer
DTSTART;VALUE=DATE:20250818
DTEND;VALUE=DATE:20250819
DTSTAMP;VALUE=DATE-TIME:20260423T231614Z
UID:c6114d901b604dd2946e39425fc9a14f@127.0.0.1:6081
CREATED;VALUE=DATE-TIME:20250719T144603Z
LAST-MODIFIED;VALUE=DATE-TIME:20250719T144622Z
URL:https://gymnasium.ai.ch/nuetzliches/termine/16-20-uhr-start-wahlpflich
 tfaecher-und-freifaecher
END:VEVENT
END:VCALENDAR
