BEGIN:VCALENDAR
VERSION:2.0
PRODID:-//Plone.org//NONSGML plone.app.event//EN
X-WR-TIMEZONE:Europe/Zurich
BEGIN:VEVENT
SUMMARY:16.30 Uhr: Antonius-Festgottesdienst / 17.30 Uhr: Antoniuspreis / 
 18.30 Uhr: Volleyballnacht
DTSTART;TZID=Europe/Vienna;VALUE=DATE-TIME:20230612T163000
DTEND;TZID=Europe/Vienna;VALUE=DATE-TIME:20230612T203000
DTSTAMP;VALUE=DATE-TIME:20260424T021542Z
UID:f11592a010cc448da57458bb2d6d00cb@127.0.0.1:6081
CREATED;VALUE=DATE-TIME:20230423T144157Z
LAST-MODIFIED;VALUE=DATE-TIME:20230423T152821Z
URL:https://gymnasium.ai.ch/nuetzliches/termine/16-30-uhr-antonius-festgot
 tesdienst-17-30-uhr-antoniuspreis-18-30-uhr-volleyballnacht
END:VEVENT
BEGIN:VTIMEZONE
TZID:Europe/Vienna
X-LIC-LOCATION:Europe/Vienna
BEGIN:DAYLIGHT
DTSTART;VALUE=DATE-TIME:20230326T030000
TZNAME:CEST
TZOFFSETFROM:+0100
TZOFFSETTO:+0200
END:DAYLIGHT
END:VTIMEZONE
END:VCALENDAR
