BEGIN:VCALENDAR
VERSION:2.0
PRODID:-//Plone.org//NONSGML plone.app.event//EN
X-WR-TIMEZONE:Europe/Zurich
BEGIN:VEVENT
SUMMARY:2. Klassen: 12.50 Uhr - Besuch Berufsinformationszentrum BIZ Appen
 zell
DTSTART;VALUE=DATE:20230627
DTEND;VALUE=DATE:20230628
DTSTAMP;VALUE=DATE-TIME:20260423T231818Z
UID:ac5ce6b5857d470083d5b887dc09346f@127.0.0.1:6081
CREATED;VALUE=DATE-TIME:20230423T163111Z
LAST-MODIFIED;VALUE=DATE-TIME:20230423T163147Z
URL:https://gymnasium.ai.ch/nuetzliches/termine/2-klassen-12-50-uhr-besuch
 -berufsinformationszentrum-biz-appenzell
END:VEVENT
END:VCALENDAR
