BEGIN:VCALENDAR
VERSION:2.0
PRODID:-//Plone.org//NONSGML plone.app.event//EN
X-WR-TIMEZONE:Europe/Zurich
BEGIN:VEVENT
SUMMARY:Anmeldeschluss Wahl Schwerpunktfach Schuljahr 2023/24: 2. Klassen/
 QuereinsteigerInnen
DTSTART;VALUE=DATE:20230522
DTEND;VALUE=DATE:20230523
DTSTAMP;VALUE=DATE-TIME:20260423T231921Z
UID:0752f812d8b844c5b2319be44a14c1f6@127.0.0.1:6081
CREATED;VALUE=DATE-TIME:20221013T173519Z
LAST-MODIFIED;VALUE=DATE-TIME:20230423T074736Z
URL:https://gymnasium.ai.ch/nuetzliches/termine/2-klassen-quereinsteiger-a
 nmeldeschluss-wahl-schwerpunktfach-schuljahr-2023-24
END:VEVENT
END:VCALENDAR
