BEGIN:VCALENDAR
VERSION:2.0
PRODID:-//Plone.org//NONSGML plone.app.event//EN
X-WR-TIMEZONE:Europe/Zurich
BEGIN:VEVENT
SUMMARY:4. Klassen Fremdsprachenaufenthalt: Abgabetermin Anmeldeformular
DTSTART;TZID=Europe/Vienna;VALUE=DATE-TIME:20230921T170000
DTEND;TZID=Europe/Vienna;VALUE=DATE-TIME:20230921T170000
DTSTAMP;VALUE=DATE-TIME:20260423T231655Z
UID:b7112108b192469e8df96084936e6dab@127.0.0.1:6081
CREATED;VALUE=DATE-TIME:20230712T083306Z
LAST-MODIFIED;VALUE=DATE-TIME:20230712T083318Z
URL:https://gymnasium.ai.ch/nuetzliches/termine/4-klassen-fremdsprachenauf
 enthalt-abgabetermin-anmeldeformular
END:VEVENT
BEGIN:VTIMEZONE
TZID:Europe/Vienna
X-LIC-LOCATION:Europe/Vienna
BEGIN:DAYLIGHT
DTSTART;VALUE=DATE-TIME:20230326T030000
TZNAME:CEST
TZOFFSETFROM:+0100
TZOFFSETTO:+0200
END:DAYLIGHT
END:VTIMEZONE
END:VCALENDAR
