BEGIN:VCALENDAR
VERSION:2.0
PRODID:-//Plone.org//NONSGML plone.app.event//EN
X-WR-TIMEZONE:Europe/Zurich
BEGIN:VEVENT
SUMMARY:5. Klassen: Maturaarbeit Schuljahr 2021/22 - Konzeptabgabe an das 
 Sekretariat
DTSTART;VALUE=DATE-TIME:20210430T150000Z
DTEND;VALUE=DATE-TIME:20210430T150000Z
DTSTAMP;VALUE=DATE-TIME:20260424T005700Z
UID:195e15808765446bab9c5b4c7e544cdd@127.0.0.1:10150
CREATED;VALUE=DATE-TIME:20210417T203901Z
LAST-MODIFIED;VALUE=DATE-TIME:20210417T203906Z
URL:https://gymnasium.ai.ch/nuetzliches/termine/5-klassen-maturaarbeit-sch
 uljahr-2021-22-konzeptabgabe-an-das-sekretariat
END:VEVENT
END:VCALENDAR
