BEGIN:VCALENDAR
VERSION:2.0
PRODID:-//Plone.org//NONSGML plone.app.event//EN
X-WR-TIMEZONE:Europe/Zurich
BEGIN:VEVENT
SUMMARY:6. Klassen: Abgabetermin Maturaarbeit
DTSTART;TZID=Europe/Vienna;VALUE=DATE-TIME:20221031T170000
DTEND;TZID=Europe/Vienna;VALUE=DATE-TIME:20221031T170000
DTSTAMP;VALUE=DATE-TIME:20260423T231511Z
UID:e6158663ae214b869a94f489c042a947@127.0.0.1:6081
CREATED;VALUE=DATE-TIME:20220810T143101Z
LAST-MODIFIED;VALUE=DATE-TIME:20220810T143112Z
URL:https://gymnasium.ai.ch/nuetzliches/termine/6-klassen-abgabetermin-mat
 uraarbeit
END:VEVENT
BEGIN:VTIMEZONE
TZID:Europe/Vienna
X-LIC-LOCATION:Europe/Vienna
BEGIN:STANDARD
DTSTART;VALUE=DATE-TIME:20221030T020000
TZNAME:CET
TZOFFSETFROM:+0200
TZOFFSETTO:+0100
END:STANDARD
END:VTIMEZONE
END:VCALENDAR
