BEGIN:VCALENDAR
VERSION:2.0
PRODID:-//Plone.org//NONSGML plone.app.event//EN
X-WR-TIMEZONE:Europe/Zurich
BEGIN:VEVENT
SUMMARY:6. Klassen: Beginn Intensivrepetition im Präsenzunterricht
DTSTART;VALUE=DATE:20200607
DTEND;VALUE=DATE:20200611
DTSTAMP;VALUE=DATE-TIME:20260424T004953Z
UID:ff94dd81190e4e6d9a4e9f0a1d2766ae@127.0.0.1:10150
CREATED;VALUE=DATE-TIME:20200603T200156Z
LAST-MODIFIED;VALUE=DATE-TIME:20200603T200200Z
URL:https://gymnasium.ai.ch/nuetzliches/termine/6-klassen-beginn-intensivr
 epetition-im-praesenzunterricht
END:VEVENT
END:VCALENDAR
