BEGIN:VCALENDAR
VERSION:2.0
PRODID:-//Plone.org//NONSGML plone.app.event//EN
X-WR-TIMEZONE:Europe/Zurich
BEGIN:VEVENT
SUMMARY:6. Klassen Maturaarbeit: Abgabetermin
DTSTART;TZID=Europe/Vienna;VALUE=DATE-TIME:20231030T170000
DTEND;TZID=Europe/Vienna;VALUE=DATE-TIME:20231030T170000
DTSTAMP;VALUE=DATE-TIME:20260423T231511Z
UID:e657232fbda640e0bb187f46d956b159@127.0.0.1:6081
CREATED;VALUE=DATE-TIME:20230712T084304Z
LAST-MODIFIED;VALUE=DATE-TIME:20230712T084309Z
URL:https://gymnasium.ai.ch/nuetzliches/termine/6-klassen-maturaarbeit-abg
 abetermin
END:VEVENT
BEGIN:VTIMEZONE
TZID:Europe/Vienna
X-LIC-LOCATION:Europe/Vienna
BEGIN:STANDARD
DTSTART;VALUE=DATE-TIME:20231029T020000
TZNAME:CET
TZOFFSETFROM:+0200
TZOFFSETTO:+0100
END:STANDARD
END:VTIMEZONE
END:VCALENDAR
