BEGIN:VCALENDAR
VERSION:2.0
PRODID:-//Plone.org//NONSGML plone.app.event//EN
X-WR-TIMEZONE:Europe/Zurich
BEGIN:VEVENT
SUMMARY:6. Klassen: Mittelschulinformationstag (Nachmittag)
DTSTART;TZID=Europe/Vienna;VALUE=DATE-TIME:20231103T133000
DTEND;TZID=Europe/Vienna;VALUE=DATE-TIME:20231103T163000
DTSTAMP;VALUE=DATE-TIME:20260423T231620Z
UID:29341f4c8ff4432aa1e91188736ae742@127.0.0.1:6081
CREATED;VALUE=DATE-TIME:20230712T084629Z
LAST-MODIFIED;VALUE=DATE-TIME:20230712T084636Z
URL:https://gymnasium.ai.ch/nuetzliches/termine/6-klassen-mittelschulinfor
 mationstag-nachmittag
END:VEVENT
BEGIN:VTIMEZONE
TZID:Europe/Vienna
X-LIC-LOCATION:Europe/Vienna
BEGIN:STANDARD
DTSTART;VALUE=DATE-TIME:20231029T020000
TZNAME:CET
TZOFFSETFROM:+0200
TZOFFSETTO:+0100
END:STANDARD
END:VTIMEZONE
END:VCALENDAR
