BEGIN:VCALENDAR
VERSION:2.0
PRODID:-//Plone.org//NONSGML plone.app.event//EN
X-WR-TIMEZONE:Europe/Zurich
BEGIN:VEVENT
SUMMARY:Abendvorstellung Theater "Chocolat"
DTSTART;VALUE=DATE-TIME:20190215T190000Z
DTEND;VALUE=DATE-TIME:20190215T210000Z
DTSTAMP;VALUE=DATE-TIME:20260424T004951Z
UID:78c4b00b62394695bf38f5bf10de6fbf@127.0.0.1:10150
CREATED;VALUE=DATE-TIME:20181218T102544Z
LAST-MODIFIED;VALUE=DATE-TIME:20190128T080900Z
LOCATION:Theatersaal Gymnasium St. Antonius Appenzell
URL:https://gymnasium.ai.ch/nuetzliches/termine/abendvorstellung-wahlpflic
 htfach-theater-chocolat-1
END:VEVENT
END:VCALENDAR
