BEGIN:VCALENDAR
VERSION:2.0
PRODID:-//Plone.org//NONSGML plone.app.event//EN
X-WR-TIMEZONE:Europe/Zurich
BEGIN:VEVENT
SUMMARY:Abendvorstellung Theater "Chocolat"
DTSTART;VALUE=DATE-TIME:20190214T190000Z
DTEND;VALUE=DATE-TIME:20190214T210000Z
DTSTAMP;VALUE=DATE-TIME:20260424T004911Z
UID:e53541f8cef143db890ca01c3b7cafab@127.0.0.1:10150
CREATED;VALUE=DATE-TIME:20181218T102459Z
LAST-MODIFIED;VALUE=DATE-TIME:20190128T080740Z
LOCATION:Theatersaal Gymnasium St. Antonius Appenzell
URL:https://gymnasium.ai.ch/nuetzliches/termine/abendvorstellung-wahlpflic
 htfach-theater-chocolat
END:VEVENT
END:VCALENDAR
