BEGIN:VCALENDAR
VERSION:2.0
PRODID:-//Plone.org//NONSGML plone.app.event//EN
X-WR-TIMEZONE:Europe/Zurich
BEGIN:VEVENT
SUMMARY:Eingabe der Erfahrungsnoten: 6. Klassen
DTSTART;VALUE=DATE-TIME:20210521T150000Z
DTEND;VALUE=DATE-TIME:20210521T150000Z
DTSTAMP;VALUE=DATE-TIME:20260423T231655Z
UID:313b36be3b104f178e1b8076ed478555@127.0.0.1:10150
CREATED;VALUE=DATE-TIME:20210417T201332Z
LAST-MODIFIED;VALUE=DATE-TIME:20210520T125943Z
URL:https://gymnasium.ai.ch/nuetzliches/termine/abgabe-der-erfahrungsnoten
 -6-klassen
END:VEVENT
END:VCALENDAR
