BEGIN:VCALENDAR
VERSION:2.0
PRODID:-//Plone.org//NONSGML plone.app.event//EN
X-WR-TIMEZONE:Europe/Zurich
BEGIN:VEVENT
SUMMARY:Abgabe Grobkonzept Maturareisen
DTSTART;VALUE=DATE-TIME:20180223T160000Z
DTSTAMP;VALUE=DATE-TIME:20260423T231702Z
UID:e72d0888aa844062bb90cdecad292737@127.0.0.1:10150
CREATED;VALUE=DATE-TIME:20180129T093643Z
DESCRIPTION:Abgabe Grobkonzept Maturareisen (5. Klasse)
LAST-MODIFIED;VALUE=DATE-TIME:20180129T093649Z
URL:https://gymnasium.ai.ch/nuetzliches/termine/abgabe-grobkonzept-maturar
 eisen
END:VEVENT
END:VCALENDAR
