BEGIN:VCALENDAR
VERSION:2.0
PRODID:-//Plone.org//NONSGML plone.app.event//EN
X-WR-TIMEZONE:Europe/Zurich
BEGIN:VEVENT
SUMMARY:Abgesagt: Antonius-Festgottesdienst und Volleyballnacht
DTSTART;VALUE=DATE:20200611
DTEND;VALUE=DATE:20200613
DTSTAMP;VALUE=DATE-TIME:20260423T231816Z
UID:55da386dad7941b98f745c36f9282499@127.0.0.1:10150
CREATED;VALUE=DATE-TIME:20200603T202300Z
LAST-MODIFIED;VALUE=DATE-TIME:20200603T202322Z
URL:https://gymnasium.ai.ch/nuetzliches/termine/abgesagt-antonius-festgott
 esdienst-und-volleyballnacht
END:VEVENT
END:VCALENDAR
