BEGIN:VCALENDAR
VERSION:2.0
PRODID:-//Plone.org//NONSGML plone.app.event//EN
X-WR-TIMEZONE:Europe/Zurich
BEGIN:VEVENT
SUMMARY:Abgesagt: Fasnachtsunterhaltung
DTSTART;VALUE=DATE-TIME:20220223T170000Z
DTEND;VALUE=DATE-TIME:20220223T210000Z
DTSTAMP;VALUE=DATE-TIME:20260423T231601Z
UID:c550ce4e05a9465c87e0d22480dda501@127.0.0.1:10150
CREATED;VALUE=DATE-TIME:20220117T103355Z
LAST-MODIFIED;VALUE=DATE-TIME:20220117T103358Z
URL:https://gymnasium.ai.ch/nuetzliches/termine/abgesagt-fasnachtsunterhal
 tung
END:VEVENT
END:VCALENDAR
