BEGIN:VCALENDAR
VERSION:2.0
PRODID:-//Plone.org//NONSGML plone.app.event//EN
X-WR-TIMEZONE:Europe/Zurich
BEGIN:VEVENT
SUMMARY:Abgesagt: Schulbesuchstag
DTSTART;VALUE=DATE:20201115
DTEND;VALUE=DATE:20201117
DTSTAMP;VALUE=DATE-TIME:20260423T231528Z
UID:7a5e9942a4d1499a89ddd48fb0258e58@127.0.0.1:10150
CREATED;VALUE=DATE-TIME:20201110T164230Z
LAST-MODIFIED;VALUE=DATE-TIME:20201110T164234Z
URL:https://gymnasium.ai.ch/nuetzliches/termine/abgesagt-schulbesuchstag-1
END:VEVENT
END:VCALENDAR
