BEGIN:VCALENDAR
VERSION:2.0
PRODID:-//Plone.org//NONSGML plone.app.event//EN
X-WR-TIMEZONE:Europe/Zurich
BEGIN:VEVENT
SUMMARY:Abgesagt: Schulbesuchstag am Gymnasium
DTSTART;VALUE=DATE:20211121
DTEND;VALUE=DATE:20211123
DTSTAMP;VALUE=DATE-TIME:20260423T231829Z
UID:bdf837fbc38a4692bf54adaed10960d8@127.0.0.1:10150
CREATED;VALUE=DATE-TIME:20211103T180615Z
LAST-MODIFIED;VALUE=DATE-TIME:20211103T180618Z
URL:https://gymnasium.ai.ch/nuetzliches/termine/abgesagt-schulbesuchstag-a
 m-gymnasium-1
END:VEVENT
END:VCALENDAR
