BEGIN:VCALENDAR
VERSION:2.0
PRODID:-//Plone.org//NONSGML plone.app.event//EN
X-WR-TIMEZONE:Europe/Zurich
BEGIN:VEVENT
SUMMARY:Abgesagt: Schulbesuchstag am Gymnasium
DTSTART;VALUE=DATE:20211118
DTEND;VALUE=DATE:20211120
DTSTAMP;VALUE=DATE-TIME:20260424T004910Z
UID:e500ccbb594a4eb393756db8094c0d4d@127.0.0.1:10150
CREATED;VALUE=DATE-TIME:20211103T180517Z
LAST-MODIFIED;VALUE=DATE-TIME:20211103T180519Z
URL:https://gymnasium.ai.ch/nuetzliches/termine/abgesagt-schulbesuchstag-a
 m-gymnasium
END:VEVENT
END:VCALENDAR
