BEGIN:VCALENDAR
VERSION:2.0
PRODID:-//Plone.org//NONSGML plone.app.event//EN
X-WR-TIMEZONE:Europe/Zurich
BEGIN:VEVENT
SUMMARY:Abgesagt: Schulbesuchstag
DTSTART;VALUE=DATE:20201112
DTEND;VALUE=DATE:20201114
DTSTAMP;VALUE=DATE-TIME:20260423T231513Z
UID:6042a33c2c33469992fb5eaa652e61db@127.0.0.1:10150
CREATED;VALUE=DATE-TIME:20201110T164151Z
LAST-MODIFIED;VALUE=DATE-TIME:20201110T164155Z
URL:https://gymnasium.ai.ch/nuetzliches/termine/abgesagt-schulbesuchstag
END:VEVENT
END:VCALENDAR
