BEGIN:VCALENDAR
VERSION:2.0
PRODID:-//Plone.org//NONSGML plone.app.event//EN
X-WR-TIMEZONE:Europe/Zurich
BEGIN:VEVENT
SUMMARY:Abgesagt: Schulinterne Lehrpersonenfortbildung
DTSTART;VALUE=DATE:20201207
DTEND;VALUE=DATE:20201209
DTSTAMP;VALUE=DATE-TIME:20260423T231755Z
UID:97037b9ea95b46f7b8f6b5a8b13c7cfb@127.0.0.1:10150
CREATED;VALUE=DATE-TIME:20201110T152523Z
LAST-MODIFIED;VALUE=DATE-TIME:20201110T152527Z
URL:https://gymnasium.ai.ch/nuetzliches/termine/abgesagt-schulinterne-lehr
 personenfortbildung
END:VEVENT
END:VCALENDAR
