BEGIN:VCALENDAR
VERSION:2.0
PRODID:-//Plone.org//NONSGML plone.app.event//EN
X-WR-TIMEZONE:Europe/Zurich
BEGIN:VEVENT
SUMMARY:Abgesagt: Schweizerischer Schulsporttag in Chur (1.-3. Gym)
DTSTART;VALUE=DATE:20200526
DTEND;VALUE=DATE:20200528
DTSTAMP;VALUE=DATE-TIME:20260423T231512Z
UID:0b63dae35521434d949ce5a3e2715800@127.0.0.1:10150
CREATED;VALUE=DATE-TIME:20200520T074629Z
LAST-MODIFIED;VALUE=DATE-TIME:20200520T074730Z
URL:https://gymnasium.ai.ch/nuetzliches/termine/abgesagt-schweizerischer-s
 chulsporttag
END:VEVENT
END:VCALENDAR
