BEGIN:VCALENDAR
VERSION:2.0
PRODID:-//Plone.org//NONSGML plone.app.event//EN
X-WR-TIMEZONE:Europe/Zurich
BEGIN:VEVENT
SUMMARY:Allerheiligen (schulfrei)
DTSTART;VALUE=DATE:20191031
DTEND;VALUE=DATE:20191102
DTSTAMP;VALUE=DATE-TIME:20260424T004730Z
UID:8d881d98eb4f4ef6a8708174db07bc04@127.0.0.1:10150
CREATED;VALUE=DATE-TIME:20190707T113115Z
LAST-MODIFIED;VALUE=DATE-TIME:20190707T113119Z
URL:https://gymnasium.ai.ch/nuetzliches/termine/allerheiligen-schulfrei-1
END:VEVENT
END:VCALENDAR
