BEGIN:VCALENDAR
VERSION:2.0
PRODID:-//Plone.org//NONSGML plone.app.event//EN
X-WR-TIMEZONE:Europe/Zurich
BEGIN:VEVENT
SUMMARY:Allerheiligen (schulfrei)
DTSTART;VALUE=DATE:20211031
DTEND;VALUE=DATE:20211102
DTSTAMP;VALUE=DATE-TIME:20260423T231525Z
UID:bd3cf68d19a44546a756204a5cc5d307@127.0.0.1:10150
CREATED;VALUE=DATE-TIME:20210817T071916Z
LAST-MODIFIED;VALUE=DATE-TIME:20210817T071919Z
URL:https://gymnasium.ai.ch/nuetzliches/termine/allerheiligen-schulfrei-2
END:VEVENT
END:VCALENDAR
