BEGIN:VCALENDAR
VERSION:2.0
PRODID:-//Plone.org//NONSGML plone.app.event//EN
X-WR-TIMEZONE:Europe/Zurich
BEGIN:VEVENT
SUMMARY:Allerheiligen (schulfrei)
DTSTART;VALUE=DATE:20221101
DTEND;VALUE=DATE:20221102
DTSTAMP;VALUE=DATE-TIME:20260424T004724Z
UID:acf2de565d3b47e59f237c7b8d0c5c5a@127.0.0.1:6081
CREATED;VALUE=DATE-TIME:20220711T201244Z
LAST-MODIFIED;VALUE=DATE-TIME:20220711T201250Z
URL:https://gymnasium.ai.ch/nuetzliches/termine/allerheiligen-schulfrei-3
END:VEVENT
END:VCALENDAR
