BEGIN:VCALENDAR
VERSION:2.0
PRODID:-//Plone.org//NONSGML plone.app.event//EN
X-WR-TIMEZONE:Europe/Zurich
BEGIN:VEVENT
SUMMARY:Allerheiligen (schulfrei)
DTSTART;VALUE=DATE:20231101
DTEND;VALUE=DATE:20231102
DTSTAMP;VALUE=DATE-TIME:20260424T004724Z
UID:21c968e912154412af7188d0c1e29a66@127.0.0.1:6081
CREATED;VALUE=DATE-TIME:20230712T084419Z
LAST-MODIFIED;VALUE=DATE-TIME:20230712T084424Z
URL:https://gymnasium.ai.ch/nuetzliches/termine/allerheiligen-schulfrei-4
END:VEVENT
END:VCALENDAR
