BEGIN:VCALENDAR
VERSION:2.0
PRODID:-//Plone.org//NONSGML plone.app.event//EN
X-WR-TIMEZONE:Europe/Zurich
BEGIN:VEVENT
SUMMARY:Allerheiligen (schulfrei)
DTSTART;VALUE=DATE:20181031
DTEND;VALUE=DATE:20181102
DTSTAMP;VALUE=DATE-TIME:20260423T231526Z
UID:907990f9900f4d848d3163c888e8c380@127.0.0.1:10150
CREATED;VALUE=DATE-TIME:20180928T115840Z
LAST-MODIFIED;VALUE=DATE-TIME:20180928T123914Z
URL:https://gymnasium.ai.ch/nuetzliches/termine/allerheiligen-schulfrei
END:VEVENT
END:VCALENDAR
