BEGIN:VCALENDAR
VERSION:2.0
PRODID:-//Plone.org//NONSGML plone.app.event//EN
X-WR-TIMEZONE:Europe/Zurich
BEGIN:VEVENT
SUMMARY:Anmeldeschluss: Aufnahmeprüfung Eintritt 3. Gym
DTSTART;VALUE=DATE:20200206
DTEND;VALUE=DATE:20200208
DTSTAMP;VALUE=DATE-TIME:20260423T231810Z
UID:a45a7aab4c98479eaea5e34474265e57@127.0.0.1:10150
CREATED;VALUE=DATE-TIME:20191030T141321Z
LAST-MODIFIED;VALUE=DATE-TIME:20191030T141325Z
URL:https://gymnasium.ai.ch/nuetzliches/termine/anmeldeschluss-aufnahmepru
 efung-eintritt-3-gym
END:VEVENT
END:VCALENDAR
