BEGIN:VCALENDAR
VERSION:2.0
PRODID:-//Plone.org//NONSGML plone.app.event//EN
X-WR-TIMEZONE:Europe/Zurich
BEGIN:VEVENT
SUMMARY:Anmeldeschluss: Aufnahmeprüfung «Eintritt 3. Klasse - Schuljahr 
 2021/22»
DTSTART;VALUE=DATE:20210204
DTEND;VALUE=DATE:20210206
DTSTAMP;VALUE=DATE-TIME:20260423T231816Z
UID:589b35d9d7154640b15055c277226cee@127.0.0.1:10150
CREATED;VALUE=DATE-TIME:20201104T083052Z
LAST-MODIFIED;VALUE=DATE-TIME:20201104T083056Z
URL:https://gymnasium.ai.ch/nuetzliches/termine/anmeldeschluss-aufnahmepru
 efung-eintritt-3-klasse-schuljahr-2021-22
END:VEVENT
END:VCALENDAR
