BEGIN:VCALENDAR
VERSION:2.0
PRODID:-//Plone.org//NONSGML plone.app.event//EN
X-WR-TIMEZONE:Europe/Zurich
BEGIN:VEVENT
SUMMARY:Anmeldeschluss: Aufnahmeprüfung Eintritt 3. Klasse - Schuljahr 20
 23/24
DTSTART;VALUE=DATE:20230203
DTEND;VALUE=DATE:20230204
DTSTAMP;VALUE=DATE-TIME:20260423T231815Z
UID:aa067824a0ad42fc880f516a37eecf46@127.0.0.1:6081
CREATED;VALUE=DATE-TIME:20221012T183110Z
LAST-MODIFIED;VALUE=DATE-TIME:20221012T183116Z
URL:https://gymnasium.ai.ch/nuetzliches/termine/anmeldeschluss-aufnahmepru
 efung-eintritt-3-klasse-schuljahr-2023-24
END:VEVENT
END:VCALENDAR
