BEGIN:VCALENDAR
VERSION:2.0
PRODID:-//Plone.org//NONSGML plone.app.event//EN
X-WR-TIMEZONE:Europe/Zurich
BEGIN:VEVENT
SUMMARY:Anmeldeschluss: Aufnahmeprüfung Eintritt 3. Klasse
DTSTART;VALUE=DATE:20220203
DTEND;VALUE=DATE:20220205
DTSTAMP;VALUE=DATE-TIME:20260423T231828Z
UID:0796247367134e08814d44a93101030e@127.0.0.1:10150
CREATED;VALUE=DATE-TIME:20211106T070502Z
LAST-MODIFIED;VALUE=DATE-TIME:20211106T070505Z
URL:https://gymnasium.ai.ch/nuetzliches/termine/anmeldeschluss-aufnahmepru
 efung-eintritt-3-klasse
END:VEVENT
END:VCALENDAR
