BEGIN:VCALENDAR
VERSION:2.0
PRODID:-//Plone.org//NONSGML plone.app.event//EN
X-WR-TIMEZONE:Europe/Zurich
BEGIN:VEVENT
SUMMARY:Anmeldeschluss Aufnahmeprüfung
DTSTART;VALUE=DATE-TIME:20180209T160000Z
DTSTAMP;VALUE=DATE-TIME:20260423T231651Z
UID:5a496ff25f8e4ad4b54418e7fdd71882@127.0.0.1:10150
CREATED;VALUE=DATE-TIME:20180129T092318Z
DESCRIPTION:Aufnahmeprüfung Eintritt 3. Klasse: Anmeldeschluss
LAST-MODIFIED;VALUE=DATE-TIME:20180129T092321Z
URL:https://gymnasium.ai.ch/nuetzliches/termine/anmeldeschluss-aufnahmepru
 efung
END:VEVENT
END:VCALENDAR
