BEGIN:VCALENDAR
VERSION:2.0
PRODID:-//Plone.org//NONSGML plone.app.event//EN
X-WR-TIMEZONE:Europe/Zurich
BEGIN:VEVENT
SUMMARY:Anmeldeschluss: DELF-Prüfungen A2\, B1 und B2
DTSTART;VALUE=DATE:20220310
DTEND;VALUE=DATE:20220312
DTSTAMP;VALUE=DATE-TIME:20260424T004825Z
UID:96b43a2682e94deab6c4310536a9d376@127.0.0.1:10150
CREATED;VALUE=DATE-TIME:20211106T072532Z
LAST-MODIFIED;VALUE=DATE-TIME:20211106T072535Z
URL:https://gymnasium.ai.ch/nuetzliches/termine/anmeldeschluss-delf-pruefu
 ngen-a2-b1-und-b2
END:VEVENT
END:VCALENDAR
