BEGIN:VCALENDAR
VERSION:2.0
PRODID:-//Plone.org//NONSGML plone.app.event//EN
X-WR-TIMEZONE:Europe/Zurich
BEGIN:VEVENT
SUMMARY:Anmeldeschluss DELF
DTSTART;VALUE=DATE-TIME:20180323T160000Z
DTSTAMP;VALUE=DATE-TIME:20260424T004609Z
UID:1b397e7dd4024833bd9b6affea42e61b@127.0.0.1:10150
CREATED;VALUE=DATE-TIME:20180301T065130Z
DESCRIPTION:Anmeldeschluss DELF-Prüfungen A2\, B1 und B2
LAST-MODIFIED;VALUE=DATE-TIME:20180301T065133Z
URL:https://gymnasium.ai.ch/nuetzliches/termine/anmeldeschluss-delf
END:VEVENT
END:VCALENDAR
