BEGIN:VCALENDAR
VERSION:2.0
PRODID:-//Plone.org//NONSGML plone.app.event//EN
X-WR-TIMEZONE:Europe/Zurich
BEGIN:VEVENT
SUMMARY:Anmeldeschluss EMS-Test (Zulassungsprüfung Medizinstudium)
DTSTART;VALUE=DATE:20230523
DTEND;VALUE=DATE:20230524
DTSTAMP;VALUE=DATE-TIME:20260423T231808Z
UID:e05b3df057ab477c82406f3941e65b9f@127.0.0.1:6081
CREATED;VALUE=DATE-TIME:20230423T192352Z
LAST-MODIFIED;VALUE=DATE-TIME:20230423T192418Z
URL:https://gymnasium.ai.ch/nuetzliches/termine/anmeldeschluss-ems-test-zu
 lassungspruefung-medizinstudium-1
END:VEVENT
END:VCALENDAR
