BEGIN:VCALENDAR
VERSION:2.0
PRODID:-//Plone.org//NONSGML plone.app.event//EN
X-WR-TIMEZONE:Europe/Zurich
BEGIN:VEVENT
SUMMARY:Anmeldeschluss EMS-Test (Zulassungsprüfung Medizinstudium)
DTSTART;VALUE=DATE:20240521
DTEND;VALUE=DATE:20240522
DTSTAMP;VALUE=DATE-TIME:20260423T231825Z
UID:05048bb881b24338b7c74b2d5bb6b9b7@127.0.0.1:6081
CREATED;VALUE=DATE-TIME:20240419T091057Z
LAST-MODIFIED;VALUE=DATE-TIME:20240419T091109Z
URL:https://gymnasium.ai.ch/nuetzliches/termine/anmeldeschluss-ems-test-zu
 lassungspruefung-medizinstudium-2
END:VEVENT
END:VCALENDAR
