BEGIN:VCALENDAR
VERSION:2.0
PRODID:-//Plone.org//NONSGML plone.app.event//EN
X-WR-TIMEZONE:Europe/Zurich
BEGIN:VEVENT
SUMMARY:Anmeldeschluss EMS-Test (Zulassungsprüfung Medizinstudium)
DTSTART;VALUE=DATE:20210524
DTEND;VALUE=DATE:20210526
DTSTAMP;VALUE=DATE-TIME:20260423T231827Z
UID:78a8382e6b7944ca8194b1ad7f007a81@127.0.0.1:10150
CREATED;VALUE=DATE-TIME:20210417T202032Z
LAST-MODIFIED;VALUE=DATE-TIME:20210417T202038Z
URL:https://gymnasium.ai.ch/nuetzliches/termine/anmeldeschluss-ems-test-zu
 lassungspruefung-medizinstudium
END:VEVENT
END:VCALENDAR
