BEGIN:VCALENDAR
VERSION:2.0
PRODID:-//Plone.org//NONSGML plone.app.event//EN
X-WR-TIMEZONE:Europe/Zurich
BEGIN:VEVENT
SUMMARY:Anmeldeschluss Freifächer
DTSTART;VALUE=DATE:20200310
DTEND;VALUE=DATE:20200312
DTSTAMP;VALUE=DATE-TIME:20260424T004725Z
UID:52a044a1080d43c682e70332c353d169@127.0.0.1:10150
CREATED;VALUE=DATE-TIME:20200221T172348Z
LAST-MODIFIED;VALUE=DATE-TIME:20200221T172353Z
URL:https://gymnasium.ai.ch/nuetzliches/termine/anmeldeschluss-freifaecher
 -1
END:VEVENT
END:VCALENDAR
