BEGIN:VCALENDAR
VERSION:2.0
PRODID:-//Plone.org//NONSGML plone.app.event//EN
X-WR-TIMEZONE:Europe/Zurich
BEGIN:VEVENT
SUMMARY:Anmeldeschluss Freifächer
DTSTART;VALUE=DATE:20230317
DTEND;VALUE=DATE:20230318
DTSTAMP;VALUE=DATE-TIME:20260424T004420Z
UID:4f331a6f6069419784fd125880eb2154@127.0.0.1:6081
CREATED;VALUE=DATE-TIME:20221013T145344Z
LAST-MODIFIED;VALUE=DATE-TIME:20221013T145355Z
URL:https://gymnasium.ai.ch/nuetzliches/termine/anmeldeschluss-freifaecher
 -2
END:VEVENT
END:VCALENDAR
