BEGIN:VCALENDAR
VERSION:2.0
PRODID:-//Plone.org//NONSGML plone.app.event//EN
X-WR-TIMEZONE:Europe/Zurich
BEGIN:VEVENT
SUMMARY:Anmeldeschluss Freifächer
DTSTART;VALUE=DATE:20240322
DTEND;VALUE=DATE:20240323
DTSTAMP;VALUE=DATE-TIME:20260424T004725Z
UID:a16b2187e48440bab04e68ac8b642000@127.0.0.1:6081
CREATED;VALUE=DATE-TIME:20240202T153319Z
LAST-MODIFIED;VALUE=DATE-TIME:20240202T153323Z
URL:https://gymnasium.ai.ch/nuetzliches/termine/anmeldeschluss-freifaecher
 -3
END:VEVENT
END:VCALENDAR
