BEGIN:VCALENDAR
VERSION:2.0
PRODID:-//Plone.org//NONSGML plone.app.event//EN
X-WR-TIMEZONE:Europe/Zurich
BEGIN:VEVENT
SUMMARY:Anmeldeschluss Freifächer
DTSTART;VALUE=DATE:20250321
DTEND;VALUE=DATE:20250322
DTSTAMP;VALUE=DATE-TIME:20260424T004725Z
UID:ed4cbe9f7c9444f3acf6aab7f01ed831@127.0.0.1:6081
CREATED;VALUE=DATE-TIME:20240927T155249Z
LAST-MODIFIED;VALUE=DATE-TIME:20240927T155257Z
URL:https://gymnasium.ai.ch/nuetzliches/termine/anmeldeschluss-freifaecher
 -4
END:VEVENT
END:VCALENDAR
